BEGIN:VCALENDAR
VERSION:2.0
PRODID:-//GA Region D - ECPv6.15.20//NONSGML v1.0//EN
CALSCALE:GREGORIAN
METHOD:PUBLISH
X-WR-CALNAME:GA Region D
X-ORIGINAL-URL:https://regiondhealthcarecoalition.org
X-WR-CALDESC:Events for GA Region D
REFRESH-INTERVAL;VALUE=DURATION:PT1H
X-Robots-Tag:noindex
X-PUBLISHED-TTL:PT1H
BEGIN:VTIMEZONE
TZID:America/New_York
BEGIN:DAYLIGHT
TZOFFSETFROM:-0500
TZOFFSETTO:-0400
TZNAME:EDT
DTSTART:20210314T070000
END:DAYLIGHT
BEGIN:STANDARD
TZOFFSETFROM:-0400
TZOFFSETTO:-0500
TZNAME:EST
DTSTART:20211107T060000
END:STANDARD
BEGIN:DAYLIGHT
TZOFFSETFROM:-0500
TZOFFSETTO:-0400
TZNAME:EDT
DTSTART:20220313T070000
END:DAYLIGHT
BEGIN:STANDARD
TZOFFSETFROM:-0400
TZOFFSETTO:-0500
TZNAME:EST
DTSTART:20221106T060000
END:STANDARD
BEGIN:DAYLIGHT
TZOFFSETFROM:-0500
TZOFFSETTO:-0400
TZNAME:EDT
DTSTART:20230312T070000
END:DAYLIGHT
BEGIN:STANDARD
TZOFFSETFROM:-0400
TZOFFSETTO:-0500
TZNAME:EST
DTSTART:20231105T060000
END:STANDARD
BEGIN:DAYLIGHT
TZOFFSETFROM:-0500
TZOFFSETTO:-0400
TZNAME:EDT
DTSTART:20240310T070000
END:DAYLIGHT
BEGIN:STANDARD
TZOFFSETFROM:-0400
TZOFFSETTO:-0500
TZNAME:EST
DTSTART:20241103T060000
END:STANDARD
BEGIN:DAYLIGHT
TZOFFSETFROM:-0500
TZOFFSETTO:-0400
TZNAME:EDT
DTSTART:20250309T070000
END:DAYLIGHT
BEGIN:STANDARD
TZOFFSETFROM:-0400
TZOFFSETTO:-0500
TZNAME:EST
DTSTART:20251102T060000
END:STANDARD
BEGIN:DAYLIGHT
TZOFFSETFROM:-0500
TZOFFSETTO:-0400
TZNAME:EDT
DTSTART:20260308T070000
END:DAYLIGHT
BEGIN:STANDARD
TZOFFSETFROM:-0400
TZOFFSETTO:-0500
TZNAME:EST
DTSTART:20261101T060000
END:STANDARD
BEGIN:DAYLIGHT
TZOFFSETFROM:-0500
TZOFFSETTO:-0400
TZNAME:EDT
DTSTART:20270314T070000
END:DAYLIGHT
BEGIN:STANDARD
TZOFFSETFROM:-0400
TZOFFSETTO:-0500
TZNAME:EST
DTSTART:20271107T060000
END:STANDARD
END:VTIMEZONE
BEGIN:VEVENT
DTSTART;TZID=America/New_York:20260422T090000
DTEND;TZID=America/New_York:20260422T130000
DTSTAMP:20260424T201357
CREATED:20260414T141223Z
LAST-MODIFIED:20260414T144606Z
UID:1927-1776848400-1776862800@regiondhealthcarecoalition.org
SUMMARY:Coalition Skills Day
DESCRIPTION:Register for our upcoming Coalition Skills Day! This is a valuable opportunity to learn about the resources that Region D provides and to strengthen your emergency preparedness knowledge.\n\n\n\n\n\nDate: Wednesday\, April 22\n\n\nTime: 9:00 a.m. – 1:00 p.m.\n\n\nLocation: The Family Health Centers of GA inc. (868 York Ave SW\, Atlanta\, GA)\n\n\nTrainings: Naloxone (Narcan) Response\, and more\n\n\nRegister Here: Training\, Exercise & Response Management System –
URL:https://regiondhealthcarecoalition.org/event/coalition-skills-day-3/
LOCATION:The Family Health Centers of GA inc.\, 868 York Ave SW\, Atlanta\, GA\, 30310\, United States
END:VEVENT
BEGIN:VEVENT
DTSTART;TZID=America/New_York:20260420T080000
DTEND;TZID=America/New_York:20260420T160000
DTSTAMP:20260424T201357
CREATED:20260211T200918Z
LAST-MODIFIED:20260414T150454Z
UID:1872-1776672000-1776700800@regiondhealthcarecoalition.org
SUMMARY:Advanced Burn Life Support (ABLS)
DESCRIPTION:Date: Monday\, April 20 \nTime: 8:00 a.m. – 4:00 p.m. \nLocation: Clayton County Fire and Emergency Services (7810 Highway 85\, Riverdale\, GA 30274) \nRegistrations (sign up with both links): \nTraining\, Exercise & Response Management System –\nEvent Registration
URL:https://regiondhealthcarecoalition.org/event/advanced-burn-life-support-abls-3/
LOCATION:Clayton County Fire and Emergency Services\, 7810 Highway 85\, Riverdale\, Georgia\, 30274
END:VEVENT
BEGIN:VEVENT
DTSTART;TZID=America/New_York:20260318T080000
DTEND;TZID=America/New_York:20260318T170000
DTSTAMP:20260424T201357
CREATED:20260211T200821Z
LAST-MODIFIED:20260309T205323Z
UID:1871-1773820800-1773853200@regiondhealthcarecoalition.org
SUMMARY:Advanced Burn Life Support (ABLS)
DESCRIPTION:Limited number of seats are available and registration will be accepted on a first-come\, first-served basis.  \nCourse Details: \nDate: Wednesday\, March 18th\, 2026\nTime: 0800–1700\nLocation: 3608 Braselton Hwy\, Dacula\, GA 30019 \nABLS is a nationally recognized course designed to improve the initial assessment\, stabilization\, and transfer of burn patients. This training is strongly recommended for clinicians involved in emergency care\, trauma response\, and disaster preparedness. \n\n\n\nRegistration Instructions (Two-Step Process – Required)\nStep 1: Register through TRS\nPlease complete the initial registration using the TRS link below: \nTRS Registration Link: Training\, Exercise & Response Management System – \nStep 2: Register through the American Burn Association (ABA)\nTo receive your ABLS certificate\, you must also complete registration through the ABA system. Failure to follow these instructions will prevent you from obtaining your CE credits and certificate for the course. \n \n1) Create ABA Profile\n\nTo verify your participation in the course\, you must first have an ABA profile (you do not need to be an ABA member to create a user account or take the course) completed with your preferred email address. If you have not created an ABA profile\, use the attached PDF to create an account. Failure to do this will result in you not being able to access your CE and certificate after the course\nOnce you have created your ABA profile\, use the ABA link and code to confirm course attendance. Instructions for creating your profile have been attached to this email.\n\n \n2) How To Confirm Attendance for ABLS™ Live Course\n\n\nLog in to your ABA account and use this custom verification link to complete your registration for your desired course\n\nYour course custom verification link: https://members.ameriburn.org/events/event-registration/?id=57835f91-9007-f111-83db-000d3a7ba693\nAs you are verifying your attendance\, there will be a page to enter a registration code (please note this is not this is not to register for the course as a whole\, but to register to receive your certificate).\n\n\nYou do not need a registration code. Please leave this box blank and click next. You should be able to finish registration without charge.\nOnce you have finished your verification process\, check your e-mail and make sure you have received a confirmation. If you have not\, e-mail abls@ameriburn.org so that they can help you trouble shoot the issue.\n\n\n3) Post Course Completion\n\nAfter your ABLS™ coordinator has confirmed attendance and satisfactory completion of the course\, the ABA will send out a link to the final course evaluation\nYou must be logged in to your ABA profile before clicking on the provided link.\nComplete the evaluation in full in order to access the “get certified” link on the last page of the evaluation. You must click this link for your certification to be finalized and appear in your ABA profile along with your CE credits\nTo access both your credits and certificate\, follow the below instructions:\n\nYou can download the certificate under the Purchases tab at the top of your ABA profile > Certifications > Completed Certifications. The credit hours can be found on your transcript under the Account tab > Education Credits > Download Transcript.\n \nIf you need additional support please e-mail the ABLS support team at abls@ameriburn.org
URL:https://regiondhealthcarecoalition.org/event/advanced-burn-life-support-abls-2/
LOCATION:GA
END:VEVENT
BEGIN:VEVENT
DTSTART;TZID=America/New_York:20260305T090000
DTEND;TZID=America/New_York:20260305T130000
DTSTAMP:20260424T201357
CREATED:20260211T200551Z
LAST-MODIFIED:20260211T200621Z
UID:1869-1772701200-1772715600@regiondhealthcarecoalition.org
SUMMARY:Coalition Skills Day
DESCRIPTION:Focus: Psychological First Aid and related coalition training topics \nMore information coming soon!
URL:https://regiondhealthcarecoalition.org/event/coalition-skills-day-2/
LOCATION:GA
END:VEVENT
BEGIN:VEVENT
DTSTART;TZID=America/New_York:20260206T090000
DTEND;TZID=America/New_York:20260206T130000
DTSTAMP:20260424T201357
CREATED:20260115T195239Z
LAST-MODIFIED:20260116T194423Z
UID:1829-1770368400-1770382800@regiondhealthcarecoalition.org
SUMMARY:Region D Cybersecurity Tabletop
DESCRIPTION:
URL:https://regiondhealthcarecoalition.org/event/region-d-cybersecurity-tabletop/
LOCATION:Northside Resource Center\, 655 Duluth Hwy St 101\, Lawrenceville\, GA\, 30046
END:VEVENT
BEGIN:VEVENT
DTSTART;TZID=America/New_York:20260129T080000
DTEND;TZID=America/New_York:20260129T170000
DTSTAMP:20260424T201357
CREATED:20260122T143919Z
LAST-MODIFIED:20260122T143919Z
UID:1831-1769673600-1769706000@regiondhealthcarecoalition.org
SUMMARY:Advanced Burn Life Support
DESCRIPTION:ABLS is a nationally recognized course designed to improve the initial assessment\, stabilization\, and transfer of burn patients. This training is strongly recommended for clinicians involved in emergency care\, trauma response\, and disaster preparedness. Only 15 seats are available\, and registration will be accepted on a first-come\, first-served basis. Lunch will be provided!
URL:https://regiondhealthcarecoalition.org/event/advanced-burn-life-support/
LOCATION:Union City – Atlanta Fulton County Emergency Management Agency\, 6500 Campbellton Fairburn Road\, Union City\, GA\, 30213
END:VEVENT
BEGIN:VEVENT
DTSTART;TZID=America/New_York:20260122T090000
DTEND;TZID=America/New_York:20260122T120000
DTSTAMP:20260424T201357
CREATED:20251222T203026Z
LAST-MODIFIED:20260116T194342Z
UID:1814-1769072400-1769083200@regiondhealthcarecoalition.org
SUMMARY:Coalition Skills Day
DESCRIPTION:An opportunity to learn about the resources that Region D provides. This type of meeting is especially beneficial for new coalition members and is a great way to network with fellow coalition participants.
URL:https://regiondhealthcarecoalition.org/event/coalition-skills-day/
LOCATION:Dekalb Public Health – Bohan Auditorium\, 445 Winn Way\, Decatur\, GA\, 30030
END:VEVENT
BEGIN:VEVENT
DTSTART;TZID=America/New_York:20251212T090000
DTEND;TZID=America/New_York:20251212T130000
DTSTAMP:20260424T201357
CREATED:20251222T202409Z
LAST-MODIFIED:20251222T202409Z
UID:1813-1765530000-1765544400@regiondhealthcarecoalition.org
SUMMARY:Region D Quarterly Coalition Meeting
DESCRIPTION:
URL:https://regiondhealthcarecoalition.org/event/region-d-quarterly-coalition-meeting/
LOCATION:Courtyard by Marriott – Decatur\, 130 Clairemont Ave\, Decatur\, GA\, 30030\, United States
END:VEVENT
BEGIN:VEVENT
DTSTART;TZID=America/New_York:20220916T090000
DTEND;TZID=America/New_York:20220916T143000
DTSTAMP:20260424T201357
CREATED:20220607T192356Z
LAST-MODIFIED:20220607T192356Z
UID:1289-1663318800-1663338600@regiondhealthcarecoalition.org
SUMMARY:Mutual Aid Task Force Meeting
DESCRIPTION:
URL:https://regiondhealthcarecoalition.org/event/mutual-aid-task-force-meeting/
LOCATION:GPSTC (Georgia Public Safety Training Center) Bay A\, 1000 Indian Springs Dr\, Forsyth\,\, GA\, 31029\, United States
END:VEVENT
END:VCALENDAR